BEGIN:VCALENDAR
VERSION:2.0
PRODID:-//AfD-Bezirksverband Lichtenberg - ECPv6.15.20//NONSGML v1.0//EN
CALSCALE:GREGORIAN
METHOD:PUBLISH
X-WR-CALNAME:AfD-Bezirksverband Lichtenberg
X-ORIGINAL-URL:https://lichtenberg.afd.berlin
X-WR-CALDESC:Veranstaltungen für AfD-Bezirksverband Lichtenberg
REFRESH-INTERVAL;VALUE=DURATION:PT1H
X-Robots-Tag:noindex
X-PUBLISHED-TTL:PT1H
BEGIN:VTIMEZONE
TZID:Europe/Helsinki
BEGIN:DAYLIGHT
TZOFFSETFROM:+0200
TZOFFSETTO:+0300
TZNAME:EEST
DTSTART:20250330T010000
END:DAYLIGHT
BEGIN:STANDARD
TZOFFSETFROM:+0300
TZOFFSETTO:+0200
TZNAME:EET
DTSTART:20251026T010000
END:STANDARD
BEGIN:DAYLIGHT
TZOFFSETFROM:+0200
TZOFFSETTO:+0300
TZNAME:EEST
DTSTART:20260329T010000
END:DAYLIGHT
BEGIN:STANDARD
TZOFFSETFROM:+0300
TZOFFSETTO:+0200
TZNAME:EET
DTSTART:20261025T010000
END:STANDARD
BEGIN:DAYLIGHT
TZOFFSETFROM:+0200
TZOFFSETTO:+0300
TZNAME:EEST
DTSTART:20270328T010000
END:DAYLIGHT
BEGIN:STANDARD
TZOFFSETFROM:+0300
TZOFFSETTO:+0200
TZNAME:EET
DTSTART:20271031T010000
END:STANDARD
END:VTIMEZONE
BEGIN:VEVENT
DTSTART;TZID=Europe/Helsinki:20260224T183000
DTEND;TZID=Europe/Helsinki:20260224T200000
DTSTAMP:20260421T130316
CREATED:20260213T221951Z
LAST-MODIFIED:20260213T222127Z
UID:2114-1771957800-1771963200@lichtenberg.afd.berlin
SUMMARY:Lichtenberger Runde: "Generation Deutschland"
DESCRIPTION:Einlass: 18:30 Uhr\nBeginn: 19:00 Uhr \nOrt: Nach Anmeldung\nAnmeldung unter: L.Becker@AfD-BV-Lichtenberg.Berlin
URL:https://lichtenberg.afd.berlin/termin/lichtenberger-runde-generation-deutschland/
CATEGORIES:Lichtenberger Runde
ATTACH;FMTTYPE=image/jpeg:https://lichtenberg.afd.berlin/wp-content/uploads/2026/02/photo_2026-02-13_23-13-49.jpg
END:VEVENT
END:VCALENDAR