BEGIN:VCALENDAR
VERSION:2.0
PRODID:-//AfD-Bezirksverband Lichtenberg - ECPv6.15.20//NONSGML v1.0//EN
CALSCALE:GREGORIAN
METHOD:PUBLISH
X-ORIGINAL-URL:https://lichtenberg.afd.berlin
X-WR-CALDESC:Veranstaltungen für AfD-Bezirksverband Lichtenberg
REFRESH-INTERVAL;VALUE=DURATION:PT1H
X-Robots-Tag:noindex
X-PUBLISHED-TTL:PT1H
BEGIN:VTIMEZONE
TZID:Europe/Helsinki
BEGIN:DAYLIGHT
TZOFFSETFROM:+0200
TZOFFSETTO:+0300
TZNAME:EEST
DTSTART:20250330T010000
END:DAYLIGHT
BEGIN:STANDARD
TZOFFSETFROM:+0300
TZOFFSETTO:+0200
TZNAME:EET
DTSTART:20251026T010000
END:STANDARD
BEGIN:DAYLIGHT
TZOFFSETFROM:+0200
TZOFFSETTO:+0300
TZNAME:EEST
DTSTART:20260329T010000
END:DAYLIGHT
BEGIN:STANDARD
TZOFFSETFROM:+0300
TZOFFSETTO:+0200
TZNAME:EET
DTSTART:20261025T010000
END:STANDARD
BEGIN:DAYLIGHT
TZOFFSETFROM:+0200
TZOFFSETTO:+0300
TZNAME:EEST
DTSTART:20270328T010000
END:DAYLIGHT
BEGIN:STANDARD
TZOFFSETFROM:+0300
TZOFFSETTO:+0200
TZNAME:EET
DTSTART:20271031T010000
END:STANDARD
END:VTIMEZONE
BEGIN:VEVENT
DTSTART;TZID=Europe/Helsinki:20260214T100000
DTEND;TZID=Europe/Helsinki:20260214T120000
DTSTAMP:20260419T230334
CREATED:20260116T065331Z
LAST-MODIFIED:20260116T065331Z
UID:2081-1771063200-1771070400@lichtenberg.afd.berlin
SUMMARY:Infostand
DESCRIPTION:Treffpunkt: am Haupteingang Alleecenter
URL:https://lichtenberg.afd.berlin/termin/infostand-3/
LOCATION:Alleecenter\, Landsberger Allee 277\, Berlin\, Berlin\, 13055
CATEGORIES:Infostand
END:VEVENT
BEGIN:VEVENT
DTSTART;TZID=Europe/Helsinki:20260225T163000
DTEND;TZID=Europe/Helsinki:20260225T183000
DTSTAMP:20260419T230334
CREATED:20260116T070517Z
LAST-MODIFIED:20260116T070517Z
UID:2088-1772037000-1772044200@lichtenberg.afd.berlin
SUMMARY:Infostand
DESCRIPTION:Treffpunkt: am Haupteingang Linden-Center Berlin
URL:https://lichtenberg.afd.berlin/termin/infostand-2026-februar/
LOCATION:Linden-Center Berlin\, Wustrower Str. 1\, Berlin\, Berlin\, 13051
CATEGORIES:Infostand
END:VEVENT
END:VCALENDAR