BEGIN:VCALENDAR
VERSION:2.0
PRODID:-//AfD-Bezirksverband Lichtenberg - ECPv6.15.20//NONSGML v1.0//EN
CALSCALE:GREGORIAN
METHOD:PUBLISH
X-WR-CALNAME:AfD-Bezirksverband Lichtenberg
X-ORIGINAL-URL:https://lichtenberg.afd.berlin
X-WR-CALDESC:Veranstaltungen für AfD-Bezirksverband Lichtenberg
REFRESH-INTERVAL;VALUE=DURATION:PT1H
X-Robots-Tag:noindex
X-PUBLISHED-TTL:PT1H
BEGIN:VTIMEZONE
TZID:Europe/Helsinki
BEGIN:DAYLIGHT
TZOFFSETFROM:+0200
TZOFFSETTO:+0300
TZNAME:EEST
DTSTART:20250330T010000
END:DAYLIGHT
BEGIN:STANDARD
TZOFFSETFROM:+0300
TZOFFSETTO:+0200
TZNAME:EET
DTSTART:20251026T010000
END:STANDARD
BEGIN:DAYLIGHT
TZOFFSETFROM:+0200
TZOFFSETTO:+0300
TZNAME:EEST
DTSTART:20260329T010000
END:DAYLIGHT
BEGIN:STANDARD
TZOFFSETFROM:+0300
TZOFFSETTO:+0200
TZNAME:EET
DTSTART:20261025T010000
END:STANDARD
BEGIN:DAYLIGHT
TZOFFSETFROM:+0200
TZOFFSETTO:+0300
TZNAME:EEST
DTSTART:20270328T010000
END:DAYLIGHT
BEGIN:STANDARD
TZOFFSETFROM:+0300
TZOFFSETTO:+0200
TZNAME:EET
DTSTART:20271031T010000
END:STANDARD
END:VTIMEZONE
BEGIN:VEVENT
DTSTART;TZID=Europe/Helsinki:20260124T100000
DTEND;TZID=Europe/Helsinki:20260124T120000
DTSTAMP:20260415T045934
CREATED:20260116T064516Z
LAST-MODIFIED:20260116T064748Z
UID:2073-1769248800-1769256000@lichtenberg.afd.berlin
SUMMARY:Infostand
DESCRIPTION:Treffpunkt: vor REWE
URL:https://lichtenberg.afd.berlin/termin/infostand/
LOCATION:REWE Vincent-van-Gogh-Straße\, Vincent-van-Gogh-Straße 18A\, Rewe\, Berlin\, 13057\, Germany
CATEGORIES:Infostand
END:VEVENT
END:VCALENDAR